BEGIN:VCALENDAR
VERSION:2.0
PRODID:-//wp-events-plugin.com//7.2.3.1//EN
TZID:America/Denver
X-WR-TIMEZONE:America/Denver
BEGIN:VEVENT
UID:1136@krystal93.com
DTSTART;TZID=America/Denver:20240815T090000
DTEND;TZID=America/Denver:20240815T120000
DTSTAMP:20240805T175307Z
URL:https://krystal93.com/events/kayaking-with-boec/
SUMMARY:Kayaking with BOEC
DESCRIPTION:KAYAKING WITH BOEC\nPaddleboarding and Kayaking on Lake Dillon\
 nwith BOEC! Participation is limited to Summit\nCounty Residents ages 12-1
 8.\nFacilitated in English. More details at buildinghopesummit.org.\nTime:
  9am-12pm Location: Frisco Marina
CATEGORIES:Building Hope Summit County
END:VEVENT
BEGIN:VTIMEZONE
TZID:America/Denver
X-LIC-LOCATION:America/Denver
BEGIN:DAYLIGHT
DTSTART:20240310T030000
TZOFFSETFROM:-0700
TZOFFSETTO:-0600
TZNAME:MDT
END:DAYLIGHT
END:VTIMEZONE
END:VCALENDAR