BEGIN:VCALENDAR
VERSION:2.0
PRODID:-//wp-events-plugin.com//7.2.3.1//EN
TZID:America/Denver
X-WR-TIMEZONE:America/Denver
BEGIN:VEVENT
UID:669@krystal93.com
DTSTART;TZID=America/Denver:20230806T130000
DTEND;TZID=America/Denver:20230806T170000
DTSTAMP:20230730T231521Z
URL:https://krystal93.com/events/keystone-bluegrass-beer-festival/
SUMMARY:Keystone Bluegrass & Beer Festival
DESCRIPTION:What: Bluegrass and Beer Festival\nWhen: Saturday\, August 5 th
 rough August 6th 1-5pm\nWhere: Keystone \n\nDetails: Come enjoy the 26th 
 year of string bands\, craft beer pours\, mountain merch and great food at
  the Bluegrass and Beer Festival in Keystone. For tickets and more informa
 tion go to keystonefestivals-dot-com.  Krystal Media Supports the Summit
   
END:VEVENT
BEGIN:VTIMEZONE
TZID:America/Denver
X-LIC-LOCATION:America/Denver
BEGIN:DAYLIGHT
DTSTART:20230312T030000
TZOFFSETFROM:-0700
TZOFFSETTO:-0600
TZNAME:MDT
END:DAYLIGHT
END:VTIMEZONE
END:VCALENDAR