BEGIN:VCALENDAR
VERSION:2.0
PRODID:-//wp-events-plugin.com//7.2.3.1//EN
TZID:America/Denver
X-WR-TIMEZONE:America/Denver
BEGIN:VEVENT
UID:1699@krystal93.com
DTSTART;TZID=America/Denver:20250830T113000
DTEND;TZID=America/Denver:20250830T170000
DTSTAMP:20250829T144954Z
URL:https://krystal93.com/events/keystone-oktoberfest-3/
SUMMARY:Keystone Oktoberfest
DESCRIPTION:The party gets started this Labor Day weekend with Keystone Ok
 toberfest on Saturday\, Aug. 30\, from 11:30 a.m. to 5 p.m. in River Run
  Village. Local favorites Those Austrian Guys bring the oompa\, plus tradi
 tional Bavarian dancers and stein-hoisting contests on the main stage for 
 men\, women and kids. Keystone restaurants are serving up the snacks. A sl
 ice of Oktoberfest pizza anyone?
CATEGORIES:Keystone
END:VEVENT
BEGIN:VTIMEZONE
TZID:America/Denver
X-LIC-LOCATION:America/Denver
BEGIN:DAYLIGHT
DTSTART:20250309T030000
TZOFFSETFROM:-0700
TZOFFSETTO:-0600
TZNAME:MDT
END:DAYLIGHT
END:VTIMEZONE
END:VCALENDAR