BEGIN:VCALENDAR
VERSION:2.0
PRODID:-//wp-events-plugin.com//7.2.3.1//EN
TZID:America/Denver
X-WR-TIMEZONE:America/Denver
BEGIN:VEVENT
UID:723@krystal93.com
DTSTART;TZID=America/Denver:20230902T103000
DTEND;TZID=America/Denver:20230902T173000
DTSTAMP:20230831T042917Z
URL:https://krystal93.com/events/keystone-oktoberfest/
SUMMARY:Keystone Oktoberfest
DESCRIPTION:Keystone Oktoberfest When: Saturday\, September 2 - festival c
 heck in at 10:30\, Beer tents open at 1pm Where: River Run Village in Key
 stone. Details: enjoy beers\, polka dancing\, kids' activities and music f
 rom Those Austrian Guys and the Summit Concert Band. Go to keystonefestiva
 ls.com for a full schedule. 
END:VEVENT
BEGIN:VTIMEZONE
TZID:America/Denver
X-LIC-LOCATION:America/Denver
BEGIN:DAYLIGHT
DTSTART:20230312T030000
TZOFFSETFROM:-0700
TZOFFSETTO:-0600
TZNAME:MDT
END:DAYLIGHT
END:VTIMEZONE
END:VCALENDAR