BEGIN:VCALENDAR
VERSION:2.0
PRODID:-//wp-events-plugin.com//7.2.3.1//EN
TZID:America/Denver
X-WR-TIMEZONE:America/Denver
BEGIN:VEVENT
UID:1415@krystal93.com
DTSTART;TZID=America/Denver:20250315T180000
DTEND;TZID=America/Denver:20250315T213000
DTSTAMP:20250303T013250Z
URL:https://krystal93.com/events/keystone-rocky-mountain-country-fest/
SUMMARY:Keystone Rocky Mountain Country Fest
DESCRIPTION:Get ready for Keystone’s Rocky Mountain Country Fest. It’s 
 March 15 at Warren Station Center for the Arts at River Run in Keystone. T
 he Sippin’ at the Station VIP Experience starts at 6pm with whisky tasti
 ng and line dancing lessons. Then general admission is at 7:50pm\, and Uni
 on Gray plays at 8pm. Micky and the Motorcars play at 9pm.  Go to WarrenS
 tation-dot-com for more information and tickets! 
END:VEVENT
BEGIN:VTIMEZONE
TZID:America/Denver
X-LIC-LOCATION:America/Denver
BEGIN:DAYLIGHT
DTSTART:20250309T030000
TZOFFSETFROM:-0700
TZOFFSETTO:-0600
TZNAME:MDT
END:DAYLIGHT
END:VTIMEZONE
END:VCALENDAR