BEGIN:VCALENDAR
VERSION:2.0
PRODID:-//wp-events-plugin.com//7.2.3.1//EN
TZID:America/Denver
X-WR-TIMEZONE:America/Denver
BEGIN:VEVENT
UID:1780@krystal93.com
DTSTART;TZID=America/Denver:20260122T183000
DTEND;TZID=America/Denver:20260122T203000
DTSTAMP:20260102T024602Z
URL:https://krystal93.com/events/knitting-for-teens/
SUMMARY:Knitting for Teens
DESCRIPTION:THURSDAY\, JANUARY 22\, 2026\nKnitting for Teens | Ages 12-18\n
 6:30 pm - 8:30 pm / Breckenridge\nCalling all crafters and craft-curious! 
 Bring your works-\nin-progress or learn and start from the beginning at an
 \nevening of community\, creativity\, and connection.\nYou will receive yo
 ur own Knit Kit!\nThis event is intended for Summit County residents only.
  Ages 12-18.\nEvent Facilitated in English.\n Go to BuildingHopeSummit.org
  to sign up.
CATEGORIES:Building Hope Summit County
END:VEVENT
BEGIN:VTIMEZONE
TZID:America/Denver
X-LIC-LOCATION:America/Denver
BEGIN:STANDARD
DTSTART:20251102T010000
TZOFFSETFROM:-0600
TZOFFSETTO:-0700
TZNAME:MST
END:STANDARD
END:VTIMEZONE
END:VCALENDAR