BEGIN:VCALENDAR
VERSION:2.0
PRODID:-//wp-events-plugin.com//7.2.3.1//EN
TZID:America/Denver
X-WR-TIMEZONE:America/Denver
BEGIN:VEVENT
UID:1488@krystal93.com
DTSTART;TZID=America/Denver:20250508T130000
DTEND;TZID=America/Denver:20250508T170000
DTSTAMP:20250501T233009Z
URL:https://krystal93.com/events/krystal-93-live-colorado-building-supply/
SUMMARY:Krystal 93 LIVE - Colorado Building Supply
DESCRIPTION:Breckenridge Building Center and Gregory Door and Window kick-o
 ff their new “brand” --  Colorado Building Supply on Thursday May 8\,
  from 1 to 5pm. Enjoy drinks\, food\, games and prizes. Krystal 93 will be
  on-site with a chance for YOU to WIN some great concert tickets. Join the
  New Colorado Building Supply formerly the Breckenridge Building Center ju
 st north of Breck off of Highway 9\, on Thursday May 8. 
CATEGORIES:Family Event
END:VEVENT
BEGIN:VTIMEZONE
TZID:America/Denver
X-LIC-LOCATION:America/Denver
BEGIN:DAYLIGHT
DTSTART:20250309T030000
TZOFFSETFROM:-0700
TZOFFSETTO:-0600
TZNAME:MDT
END:DAYLIGHT
END:VTIMEZONE
END:VCALENDAR