BEGIN:VCALENDAR
VERSION:2.0
PRODID:-//wp-events-plugin.com//7.2.3.1//EN
TZID:America/Denver
X-WR-TIMEZONE:America/Denver
BEGIN:VEVENT
UID:1413@krystal93.com
DTSTART;TZID=America/Denver:20250407T160000
DTEND;TZID=America/Denver:20250407T180000
DTSTAMP:20250331T141431Z
URL:https://krystal93.com/events/krystal-93-party-at-vue-rooftop/
SUMMARY:Krystal 93 Party at VUE Rooftop
DESCRIPTION:Join us for an Apres Ski with Krystal 93 Party at the VUE Rooft
 op! It’s this afternoon\, from 4 to 6pm\, Tom Fricke will host the party
  and give you chances to win concert tickets to see:\n\nElephant Revival M
 ission Ballroom 4/11\n\n\n\nPaul Simon Paramount Theatre 4/14\n\n\n\nSturg
 ill Simpson Mission Ballroom 4/14\nThere will be food and drink specials a
 nd fun with Krystal 93 at The VUE Rooftop on the roof of the Homewood Suit
 es in Dillon TODAY from 4 to 6. \n\n
END:VEVENT
BEGIN:VTIMEZONE
TZID:America/Denver
X-LIC-LOCATION:America/Denver
BEGIN:DAYLIGHT
DTSTART:20250309T030000
TZOFFSETFROM:-0700
TZOFFSETTO:-0600
TZNAME:MDT
END:DAYLIGHT
END:VTIMEZONE
END:VCALENDAR