BEGIN:VCALENDAR
VERSION:2.0
PRODID:-//wp-events-plugin.com//7.2.3.1//EN
TZID:America/Denver
X-WR-TIMEZONE:America/Denver
BEGIN:VEVENT
UID:925@krystal93.com
DTSTART;TZID=America/Denver;VALUE=DATE:20240306
DTEND;TZID=America/Denver;VALUE=DATE:20240307
DTSTAMP:20240301T043117Z
URL:https://krystal93.com/events/krystal-93-ticket-window-wednesday-4/
SUMMARY:Krystal 93 -Ticket Window Wednesday
DESCRIPTION:Ticket Window Wednesday gives you a chance for tickets to 10 Mi
 le Music Hall concerts for March - Lucero\, Yonder Mountain String Band\, 
 Doom Flamingo\, Proxima Parada\, moe.\, and many more concerts coming to R
 ed Rocks\, Dillon Amp\, Fiddler's Green and more.
END:VEVENT
BEGIN:VTIMEZONE
TZID:America/Denver
X-LIC-LOCATION:America/Denver
BEGIN:STANDARD
DTSTART:20231105T010000
TZOFFSETFROM:-0600
TZOFFSETTO:-0700
TZNAME:MST
END:STANDARD
END:VTIMEZONE
END:VCALENDAR