BEGIN:VCALENDAR
VERSION:2.0
PRODID:-//wp-events-plugin.com//7.2.3.1//EN
TZID:America/Denver
X-WR-TIMEZONE:America/Denver
BEGIN:VEVENT
UID:446@krystal93.com
DTSTART;TZID=America/Denver:20230301T080000
DTEND;TZID=America/Denver:20230301T180000
DTSTAMP:20230222T180031Z
URL:https://krystal93.com/events/krystal-93-ticket-window-wednesday-big-he
 ad-todd-the-monsters/
SUMMARY:Krystal 93 Ticket Window Wednesday - Big Head Todd & The Monsters
DESCRIPTION:Listen to Krystal 93 and you'll have a chance to win hot concer
 t tickets to Big Head Todd &amp\; The Monsters where they will be inducted
  to the Rock and Roll Hall of Fame at RED ROCKS June 10. Listen all day lo
 ng and when you get the cue\, call in to 970-513-9300 to win tickets!
CATEGORIES:Tickets giveaway
END:VEVENT
BEGIN:VTIMEZONE
TZID:America/Denver
X-LIC-LOCATION:America/Denver
BEGIN:STANDARD
DTSTART:20221106T010000
TZOFFSETFROM:-0600
TZOFFSETTO:-0700
TZNAME:MST
END:STANDARD
END:VTIMEZONE
END:VCALENDAR