BEGIN:VCALENDAR
VERSION:2.0
PRODID:-//wp-events-plugin.com//7.2.3.1//EN
TZID:America/Denver
X-WR-TIMEZONE:America/Denver
BEGIN:VEVENT
UID:455@krystal93.com
DTSTART;TZID=America/Denver:20230405T080000
DTEND;TZID=America/Denver:20230405T180000
DTSTAMP:20230222T181749Z
URL:https://krystal93.com/events/krystal-93-ticket-window-wednesday-billy-
 strings-at-red-rocks/
SUMMARY:Krystal 93 Ticket Window Wednesday - Billy Strings At Red Rocks
DESCRIPTION:Listen to Krystal 93 and you'll have a chance to win hot concer
 t tickets to Billy Strings at Red Rocks on May 11. THIS CONCERT IS SOLD OU
 T-- SO TUNE IN FOR YOUR SHOT! Listen all day long and when you get the cue
 \, call in to 970-513-9300 to win tickets!
CATEGORIES:Tickets giveaway
END:VEVENT
BEGIN:VTIMEZONE
TZID:America/Denver
X-LIC-LOCATION:America/Denver
BEGIN:DAYLIGHT
DTSTART:20230312T030000
TZOFFSETFROM:-0700
TZOFFSETTO:-0600
TZNAME:MDT
END:DAYLIGHT
END:VTIMEZONE
END:VCALENDAR