BEGIN:VCALENDAR
VERSION:2.0
PRODID:-//wp-events-plugin.com//7.2.3.1//EN
TZID:America/Denver
X-WR-TIMEZONE:America/Denver
BEGIN:VEVENT
UID:510@krystal93.com
DTSTART;TZID=America/Denver:20230621T080000
DTEND;TZID=America/Denver:20230621T180000
DTSTAMP:20230531T224957Z
URL:https://krystal93.com/events/krystal-93-ticket-window-wednesday-dead-c
 ompany/
SUMMARY:Krystal 93 Ticket Window Wednesday - The Head & The Heart
DESCRIPTION:Listen to Krystal 93 and you'll have a chance to win hot concer
 t tickets to The Head &amp\; The Heart at Red Rocks on June 29. Ticket Win
 dow Wednesday is brought to you by Greer's Appliance Center.
CATEGORIES:Tickets giveaway
END:VEVENT
BEGIN:VTIMEZONE
TZID:America/Denver
X-LIC-LOCATION:America/Denver
BEGIN:DAYLIGHT
DTSTART:20230312T030000
TZOFFSETFROM:-0700
TZOFFSETTO:-0600
TZNAME:MDT
END:DAYLIGHT
END:VTIMEZONE
END:VCALENDAR