BEGIN:VCALENDAR
VERSION:2.0
PRODID:-//wp-events-plugin.com//7.2.3.1//EN
TZID:America/Denver
X-WR-TIMEZONE:America/Denver
BEGIN:VEVENT
UID:514@krystal93.com
DTSTART;TZID=America/Denver:20230719T080000
DTEND;TZID=America/Denver:20230719T180000
DTSTAMP:20230531T225927Z
URL:https://krystal93.com/events/krystal-93-ticket-window-wednesday-dead-s
 outh/
SUMMARY:Krystal 93 Ticket Window Wednesday - Dead South & More
DESCRIPTION:Listen to Krystal 93 and you'll have a chance to win hot concer
 t tickets to the Dead South at the Dillon Amphitheater on July 22 and Tede
 schi Trucks Band at Red Rocks on July 29. Listen all day long and when you
  get the cue\, call in to 970-513-9300 to win tickets! Ticket Window Wedne
 sday is brought to you by Greer's Appliance Center.
CATEGORIES:Tickets giveaway
END:VEVENT
BEGIN:VTIMEZONE
TZID:America/Denver
X-LIC-LOCATION:America/Denver
BEGIN:DAYLIGHT
DTSTART:20230312T030000
TZOFFSETFROM:-0700
TZOFFSETTO:-0600
TZNAME:MDT
END:DAYLIGHT
END:VTIMEZONE
END:VCALENDAR