BEGIN:VCALENDAR
VERSION:2.0
PRODID:-//wp-events-plugin.com//7.2.3.1//EN
TZID:America/Denver
X-WR-TIMEZONE:America/Denver
BEGIN:VEVENT
UID:414@krystal93.com
DTSTART;TZID=America/Denver:20230215T080000
DTEND;TZID=America/Denver:20230215T180000
DTSTAMP:20230127T030851Z
URL:https://krystal93.com/events/krystal-93-ticket-window-wednesday-dillon
 -shows/
SUMMARY:Krystal 93 Ticket Window Wednesday - Dillon Shows!
DESCRIPTION:Listen to Krystal 93 and you'll have a chance to win hot concer
 t tickets to Umphrey's McGee\, Greensky Bluegrass\, Dispatch and more --al
 l performing at the Dillon Amphitheater this summer. Listen all day long a
 nd when you get the cue\, call in to 970-513-9300 to win tickets!
CATEGORIES:Tickets giveaway
END:VEVENT
BEGIN:VTIMEZONE
TZID:America/Denver
X-LIC-LOCATION:America/Denver
BEGIN:STANDARD
DTSTART:20221106T010000
TZOFFSETFROM:-0600
TZOFFSETTO:-0700
TZNAME:MST
END:STANDARD
END:VTIMEZONE
END:VCALENDAR