BEGIN:VCALENDAR
VERSION:2.0
PRODID:-//wp-events-plugin.com//7.2.3.1//EN
TZID:America/Denver
X-WR-TIMEZONE:America/Denver
BEGIN:VEVENT
UID:511@krystal93.com
DTSTART;TZID=America/Denver:20230628T080000
DTEND;TZID=America/Denver:20230628T180000
DTSTAMP:20230531T225218Z
URL:https://krystal93.com/events/krystal-93-ticket-window-wednesday-jason-
 isbell-the-400-unit-3/
SUMMARY:Krystal 93 Ticket Window Wednesday - Dead & Company and More
DESCRIPTION:Listen to Krystal 93 and you'll have a chance to win hot concer
 t tickets to Dead &amp\; Company at Folsom Field in Boulder on July 2\, pl
 us a chance to win tickets to see Trampled By Turtles at Red Rocks on June
  13. Listen all day long and when you get the cue\, call in to 970-513-930
 0 to win tickets! Ticket Window Wednesday is brought to you by Greer's App
 liance Center.
CATEGORIES:Tickets giveaway
END:VEVENT
BEGIN:VTIMEZONE
TZID:America/Denver
X-LIC-LOCATION:America/Denver
BEGIN:DAYLIGHT
DTSTART:20230312T030000
TZOFFSETFROM:-0700
TZOFFSETTO:-0600
TZNAME:MDT
END:DAYLIGHT
END:VTIMEZONE
END:VCALENDAR