BEGIN:VCALENDAR
VERSION:2.0
PRODID:-//wp-events-plugin.com//7.2.3.1//EN
TZID:America/Denver
X-WR-TIMEZONE:America/Denver
BEGIN:VEVENT
UID:412@krystal93.com
DTSTART;TZID=America/Denver:20230201T080000
DTEND;TZID=America/Denver:20230201T180000
DTSTAMP:20230127T030632Z
URL:https://krystal93.com/events/krystal-93-ticket-window-wednesday-phil-l
 esh-friends-2/
SUMMARY:Krystal 93 Ticket Window Wednesday - Phil Lesh & Friends
DESCRIPTION:Listen to Krystal 93 and you'll have a chance to win hot concer
 t tickets to Phil Lesh &amp\; Friends at Mission Ballroom on February 4. L
 isten all day long and when you get the cue\, call in to 970-513-9300 to w
 in tickets!
CATEGORIES:Tickets giveaway
END:VEVENT
BEGIN:VTIMEZONE
TZID:America/Denver
X-LIC-LOCATION:America/Denver
BEGIN:STANDARD
DTSTART:20221106T010000
TZOFFSETFROM:-0600
TZOFFSETTO:-0700
TZNAME:MST
END:STANDARD
END:VTIMEZONE
END:VCALENDAR