BEGIN:VCALENDAR
VERSION:2.0
PRODID:-//wp-events-plugin.com//7.2.3.1//EN
TZID:America/Denver
X-WR-TIMEZONE:America/Denver
BEGIN:VEVENT
UID:506@krystal93.com
DTSTART;TZID=America/Denver:20230607T080000
DTEND;TZID=America/Denver:20230607T180000
DTSTAMP:20230531T224433Z
URL:https://krystal93.com/events/krystal-93-ticket-window-wednesday-shakey
 -graves/
SUMMARY:Krystal 93 Ticket Window Wednesday - Trey Anastasio Trio
DESCRIPTION:Listen to Krystal 93 and you'll have a chance to win hot concer
 t tickets to Trey Anastasio Trio with Jon Fishman at Mission Ballroom on J
 une 10.  Listen all day long and when you get the cue\, call in to 970-51
 3-9300 to win tickets! Ticket Window Wednesday is brought to you by Greer'
 s Appliance Center.
CATEGORIES:Tickets giveaway
END:VEVENT
BEGIN:VTIMEZONE
TZID:America/Denver
X-LIC-LOCATION:America/Denver
BEGIN:DAYLIGHT
DTSTART:20230312T030000
TZOFFSETFROM:-0700
TZOFFSETTO:-0600
TZNAME:MDT
END:DAYLIGHT
END:VTIMEZONE
END:VCALENDAR