BEGIN:VCALENDAR
VERSION:2.0
PRODID:-//wp-events-plugin.com//7.2.3.1//EN
TZID:America/Denver
X-WR-TIMEZONE:America/Denver
BEGIN:VEVENT
UID:512@krystal93.com
DTSTART;TZID=America/Denver:20230705T080000
DTEND;TZID=America/Denver:20230705T180000
DTSTAMP:20230704T153135Z
URL:https://krystal93.com/events/krystal-93-ticket-window-wednesday-trampl
 ed-by-turtles/
SUMMARY:Krystal 93 Ticket Window Wednesday - Jason Isbell\, Trampled by Tur
 tles
DESCRIPTION:Listen to Krystal 93 and you'll have a chance to win hot concer
 t tickets to Jason Isbell at the Dillon Amp on July 9\, and Trampled by Tu
 rtles at Red Rocks on July 13. Listen all day long and when you get the cu
 e\, call in to 970-513-9300 to win tickets! Ticket Window Wednesday is bro
 ught to you by Greer's Appliance Center.
CATEGORIES:Tickets giveaway
END:VEVENT
BEGIN:VTIMEZONE
TZID:America/Denver
X-LIC-LOCATION:America/Denver
BEGIN:DAYLIGHT
DTSTART:20230312T030000
TZOFFSETFROM:-0700
TZOFFSETTO:-0600
TZNAME:MDT
END:DAYLIGHT
END:VTIMEZONE
END:VCALENDAR