BEGIN:VCALENDAR
VERSION:2.0
PRODID:-//wp-events-plugin.com//7.2.3.1//EN
TZID:America/Denver
X-WR-TIMEZONE:America/Denver
BEGIN:VEVENT
UID:454@krystal93.com
DTSTART;TZID=America/Denver:20230329T080000
DTEND;TZID=America/Denver:20230329T180000
DTSTAMP:20230222T181605Z
URL:https://krystal93.com/events/krystal-93-ticket-window-wednesday-trevor
 -hall-jason-isbell-the-400-unit/
SUMMARY:Krystal 93 Ticket Window Wednesday - Trevor Hall/Jason Isbell & The
  400 Unit
DESCRIPTION:Listen to Krystal 93 and you'll have a chance to win hot concer
 t tickets to Trevor Hall at Red Rocks on May 3 with the California Honeydr
 ops\, and Jason Isbell &amp\; The 400 Unit at Red Rocks on May 3. Listen a
 ll day long and when you get the cue\, call in to 970-513-9300 to win tick
 ets!
CATEGORIES:Tickets giveaway
END:VEVENT
BEGIN:VTIMEZONE
TZID:America/Denver
X-LIC-LOCATION:America/Denver
BEGIN:DAYLIGHT
DTSTART:20230312T030000
TZOFFSETFROM:-0700
TZOFFSETTO:-0600
TZNAME:MDT
END:DAYLIGHT
END:VTIMEZONE
END:VCALENDAR