BEGIN:VCALENDAR
VERSION:2.0
PRODID:-//wp-events-plugin.com//7.2.3.1//EN
TZID:America/Denver
X-WR-TIMEZONE:America/Denver
BEGIN:VEVENT
UID:460@krystal93.com
DTSTART;TZID=America/Denver:20230426T080000
DTEND;TZID=America/Denver:20230426T180000
DTSTAMP:20230222T182459Z
URL:https://krystal93.com/events/krystal-93-ticket-window-wednesday-yeah-y
 eah-yeahs-michael-franti-spearhead/
SUMMARY:Krystal 93 Ticket Window Wednesday - Yeah Yeah Yeah's/Michael Frant
 i & Spearhead
DESCRIPTION:Listen to Krystal 93 and you'll have a chance to win hot concer
 t tickets to two great Red Rocks concerts-- Michael Franti &amp\; Spearhea
 d on June 2\, and The Yeah Yeah Yeah's on June 5. Listen all day long and 
 when you get the cue\, call in to 970-513-9300 to win tickets!
CATEGORIES:Tickets giveaway
END:VEVENT
BEGIN:VTIMEZONE
TZID:America/Denver
X-LIC-LOCATION:America/Denver
BEGIN:DAYLIGHT
DTSTART:20230312T030000
TZOFFSETFROM:-0700
TZOFFSETTO:-0600
TZNAME:MDT
END:DAYLIGHT
END:VTIMEZONE
END:VCALENDAR