BEGIN:VCALENDAR
VERSION:2.0
PRODID:-//wp-events-plugin.com//7.2.3.1//EN
TZID:America/Denver
X-WR-TIMEZONE:America/Denver
BEGIN:VEVENT
UID:1522@krystal93.com
DTSTART;TZID=America/Denver:20250607T130000
DTEND;TZID=America/Denver:20250607T160000
DTSTAMP:20250602T023536Z
URL:https://krystal93.com/events/lake-dillon-beer-festival-2/
SUMMARY:Lake Dillon Beer Festival
DESCRIPTION:Lake Dillon Beer Festival\n\n 	Date:06/07/2025 1:00 PM - 4:00 P
 M\n 	Location:Dillon Amphitheater\n135 W. Lodgepole Street\nDillon\, Colo
 rado 80435\n\n\n 	\n
CATEGORIES:Dillon Amphitheater
END:VEVENT
BEGIN:VTIMEZONE
TZID:America/Denver
X-LIC-LOCATION:America/Denver
BEGIN:DAYLIGHT
DTSTART:20250309T030000
TZOFFSETFROM:-0700
TZOFFSETTO:-0600
TZNAME:MDT
END:DAYLIGHT
END:VTIMEZONE
END:VCALENDAR