BEGIN:VCALENDAR
VERSION:2.0
PRODID:-//wp-events-plugin.com//7.2.3.1//EN
TZID:America/Denver
X-WR-TIMEZONE:America/Denver
BEGIN:VEVENT
UID:519@krystal93.com
DTSTART;TZID=America/Denver:20230411T180000
DTEND;TZID=America/Denver:20230411T200000
DTSTAMP:20230330T153707Z
URL:https://krystal93.com/events/language-exchange/
SUMMARY:Language Exchange
DESCRIPTION:LANGUAGE EXCHANGE \n\nLooking to brush up on your Spanish? Att
 end our language exchange and practice your Spanish with native and non-na
 tive speakers. Facilitated in English and Spanish. \n\nTime: 6-8pm Locati
 on: Dillon \n\nwww.buildinghopesummit.org/events \n\n&nbsp\;
CATEGORIES:Building Hope Summit County
END:VEVENT
BEGIN:VTIMEZONE
TZID:America/Denver
X-LIC-LOCATION:America/Denver
BEGIN:DAYLIGHT
DTSTART:20230312T030000
TZOFFSETFROM:-0700
TZOFFSETTO:-0600
TZNAME:MDT
END:DAYLIGHT
END:VTIMEZONE
END:VCALENDAR