BEGIN:VCALENDAR
VERSION:2.0
PRODID:-//wp-events-plugin.com//7.2.3.1//EN
TZID:America/Denver
X-WR-TIMEZONE:America/Denver
BEGIN:VEVENT
UID:738@krystal93.com
DTSTART;TZID=America/Denver:20231026T180000
DTEND;TZID=America/Denver:20231026T200000
DTSTAMP:20231002T151008Z
URL:https://krystal93.com/events/laps-pet-experts/
SUMMARY:LAPS Pet Experts
DESCRIPTION: LAPS (League for Animals and People of the Summit) is hosting
  a panel of pet experts at their annual meeting\, Thursday\, October 26th 
 at 6:00 p.m. in the Loveland Room of the Summit County Community and Senio
 r Center in Frisco.  Pet health\, training\, adoption\, lost pets\, and t
 herapy animal certification will be covered.  Admission is free.  For mo
 re information visit our website at summitlaps.org or contact LAPS@summitl
 aps.org.
END:VEVENT
BEGIN:VTIMEZONE
TZID:America/Denver
X-LIC-LOCATION:America/Denver
BEGIN:DAYLIGHT
DTSTART:20230312T030000
TZOFFSETFROM:-0700
TZOFFSETTO:-0600
TZNAME:MDT
END:DAYLIGHT
END:VTIMEZONE
END:VCALENDAR