BEGIN:VCALENDAR
VERSION:2.0
PRODID:-//wp-events-plugin.com//7.2.3.1//EN
TZID:America/Denver
X-WR-TIMEZONE:America/Denver
BEGIN:VEVENT
UID:591@krystal93.com
DTSTART;TZID=America/Denver:20230525T180000
DTEND;TZID=America/Denver:20230525T210000
DTSTAMP:20230511T130251Z
URL:https://krystal93.com/events/lets-get-together-laugh/
SUMMARY:Let's Get Together & Laugh
DESCRIPTION:Building Hope Summit County is honoring Mental Health Awareness
  Month with a night titled-- “Let’s Get Together and Laugh”. Comedia
 n Dana Eagle will entertain the crowd at the Pad in Silverthorne on May 25
 th – the show starts at 6pm.  Dana’s been on Comedy Central\, Last Co
 mic Standing and more. Tickets are just 25 dollars. For more information g
 o to BuildingHopeSummit.org.
CATEGORIES:Building Hope Summit County
END:VEVENT
BEGIN:VTIMEZONE
TZID:America/Denver
X-LIC-LOCATION:America/Denver
BEGIN:DAYLIGHT
DTSTART:20230312T030000
TZOFFSETFROM:-0700
TZOFFSETTO:-0600
TZNAME:MDT
END:DAYLIGHT
END:VTIMEZONE
END:VCALENDAR