BEGIN:VCALENDAR
VERSION:2.0
PRODID:-//wp-events-plugin.com//7.2.3.1//EN
TZID:America/Denver
X-WR-TIMEZONE:America/Denver
BEGIN:VEVENT
UID:1758@krystal93.com
DTSTART;TZID=America/Denver:20251206T153000
DTEND;TZID=America/Denver:20251206T190000
DTSTAMP:20251202T133726Z
URL:https://krystal93.com/events/lighting-of-breckenridge-race-of-the-sant
 as/
SUMMARY:Lighting of Breckenridge & Race of the Santas
DESCRIPTION:Kick off the holiday season at the Lighting of Breckenridge an
 d Race of the Santas on Saturday\, December 6. The festivities will start
  with the Holiday Dog Parade\, then hundreds of Santas will race down Main
  Street\, crossing the finish line just in time to see Old Saint Nick turn
  on the town's thousands of twinkling lights. Check out the schedule at G
 oBreck.com.  
CATEGORIES:Breckenridge Creative Arts
END:VEVENT
BEGIN:VTIMEZONE
TZID:America/Denver
X-LIC-LOCATION:America/Denver
BEGIN:STANDARD
DTSTART:20251102T010000
TZOFFSETFROM:-0600
TZOFFSETTO:-0700
TZNAME:MST
END:STANDARD
END:VTIMEZONE
END:VCALENDAR