BEGIN:VCALENDAR
VERSION:2.0
PRODID:-//wp-events-plugin.com//7.2.3.1//EN
TZID:America/Denver
X-WR-TIMEZONE:America/Denver
BEGIN:VEVENT
UID:1455@krystal93.com
DTSTART;TZID=America/Denver:20250403T200000
DTEND;TZID=America/Denver:20250403T230000
DTSTAMP:20250331T144153Z
URL:https://krystal93.com/events/lil-smokies-10mmh/
SUMMARY:Lil Smokies - 10MMH
DESCRIPTION:\n\nDoors at 8pm / Music at 8:30\n\nTHE LIL SMOKIES\n\nAndy Dun
 nigan: dobro\, vocals\nThe Reverend Matthew Rieger: guitar\, vocals\nJake 
 Simpson: fiddle\, guitar\, vocals\nJean Luc Davis: bass\nSam Armstrong Zic
 kefoose: banjo\n\n“Under Big Sky/Big Mountain stand/Keep watchful eye/On
  my Montana Flower”\n\nEven though often called a “newgrass” or jam 
 band\, the Lil Smokies’ high-energy acoustic music has evolved into its 
 own distinctive sound on their fourth and latest studio album\, Break of t
 he Tide\, which finds them emerging from the Covid lockdown stronger than 
 ever.\n\n“Sort of a fusion of lyric-driven folk music\, pop harmonies an
 d bluegrass instruments” is the way Montana native and band founder Andy
  Dunnigan describes the Lil Smokies music\, which also evokes contemporary
  country-folk-rock groups like Mumford &amp\; Sons and the Avett Brothers.
 \n\nWith a nearly five-year gap from their last album\, 2020’s Tornillo\
 , the band has added two new members in bassist Jean Luc Davis and banjo p
 layer Sam Armstrong Zickefoose to the core trio of dobro player Dunnigan\,
  Seattle-based lead guitarist Matthew Rieger and fiddler Jake Simpson\, no
 w dividing his time between Montana and Oklahoma.
CATEGORIES:10 Mile Music Hall
END:VEVENT
BEGIN:VTIMEZONE
TZID:America/Denver
X-LIC-LOCATION:America/Denver
BEGIN:DAYLIGHT
DTSTART:20250309T030000
TZOFFSETFROM:-0700
TZOFFSETTO:-0600
TZNAME:MDT
END:DAYLIGHT
END:VTIMEZONE
END:VCALENDAR