BEGIN:VCALENDAR
VERSION:2.0
PRODID:-//wp-events-plugin.com//7.2.3.1//EN
TZID:America/Denver
X-WR-TIMEZONE:America/Denver
BEGIN:VEVENT
UID:1800@krystal93.com
DTSTART;TZID=America/Denver:20260129T190000
DTEND;TZID=America/Denver:20260129T210000
DTSTAMP:20260102T025748Z
URL:https://krystal93.com/events/live-music-at-highside-brewing-13/
SUMMARY:Live Music at Highside Brewing
DESCRIPTION:Highside Brewing is a proud sponsor of Krystal Media’s Music
  at the Summit  \n\nLive music is always free at Highside Frisco: \n\
 n Mondays  -  Open Mic Night Hosted by Beau Thomas 6-8pm \n\n Wednes
 days – “Bluegrass Wednesdays” with Local Folk Duo 5-7pm \n\n Thurs
 days – Beau Thomas 7-9 \n\n Friday John Truscelli 8-10pm 
CATEGORIES:Highside Brewing
END:VEVENT
BEGIN:VTIMEZONE
TZID:America/Denver
X-LIC-LOCATION:America/Denver
BEGIN:STANDARD
DTSTART:20251102T010000
TZOFFSETFROM:-0600
TZOFFSETTO:-0700
TZNAME:MST
END:STANDARD
END:VTIMEZONE
END:VCALENDAR