BEGIN:VCALENDAR
VERSION:2.0
PRODID:-//wp-events-plugin.com//7.2.3.1//EN
TZID:America/Denver
X-WR-TIMEZONE:America/Denver
BEGIN:VEVENT
UID:1805@krystal93.com
DTSTART;TZID=America/Denver:20260108T200000
DTEND;TZID=America/Denver:20260108T233000
DTSTAMP:20260102T030240Z
URL:https://krystal93.com/events/live-music-at-highside-brewing-18/
SUMMARY:10MMH - Yonder Mountain String Band
DESCRIPTION:\nJanuary 8 @ 8:00 PM - 11:30 PM\nYonder Mountain String Band
 \n10 Mile Music Hall 710 Main St\, Frisco\, CO\, United States\n\n\nTICKE
 TS Yonder Mountain String Band\, a driving force in roots music for nearly
  three decades and a key player in the progressive jamgrass movement\, kic
 ks off a new chapter with Nowhere Next. Featuring original songs inspired 
 by lived experiences\, people\, and places that have shaped …\n\n
CATEGORIES:Highside Brewing
END:VEVENT
BEGIN:VTIMEZONE
TZID:America/Denver
X-LIC-LOCATION:America/Denver
BEGIN:STANDARD
DTSTART:20251102T010000
TZOFFSETFROM:-0600
TZOFFSETTO:-0700
TZNAME:MST
END:STANDARD
END:VTIMEZONE
END:VCALENDAR