BEGIN:VCALENDAR
VERSION:2.0
PRODID:-//wp-events-plugin.com//7.2.3.1//EN
TZID:America/Denver
X-WR-TIMEZONE:America/Denver
BEGIN:VEVENT
UID:1796@krystal93.com
DTSTART;TZID=America/Denver:20260117T190000
DTEND;TZID=America/Denver:20260117T220000
DTSTAMP:20260102T025559Z
URL:https://krystal93.com/events/live-music-at-highside-brewing-9/
SUMMARY:Live Music at Highside Brewing
DESCRIPTION:Highside Brewing is a proud sponsor of Krystal Media’s Music
  at the Summit  \n\nLive music is always free at Highside Frisco: \n\
 nRado (RAD – oh) \n\n Saturday\, January 17 \n\n 7-10pm \n\n Frisc
 o 
CATEGORIES:Highside Brewing
END:VEVENT
BEGIN:VTIMEZONE
TZID:America/Denver
X-LIC-LOCATION:America/Denver
BEGIN:STANDARD
DTSTART:20251102T010000
TZOFFSETFROM:-0600
TZOFFSETTO:-0700
TZNAME:MST
END:STANDARD
END:VTIMEZONE
END:VCALENDAR