BEGIN:VCALENDAR
VERSION:2.0
PRODID:-//wp-events-plugin.com//7.2.3.1//EN
TZID:America/Denver
X-WR-TIMEZONE:America/Denver
BEGIN:VEVENT
UID:670@krystal93.com
DTSTART;TZID=America/Denver:20230807T173000
DTEND;TZID=America/Denver:20230807T220000
DTSTAMP:20230730T231710Z
URL:https://krystal93.com/events/locals-night-free-concert/
SUMMARY:Locals Night Free Concert
DESCRIPTION:Locals Night FREE CONCERT – Phil Lindeman will be live from 5
 -7pm! \n\nWhere: Dillon Amphitheater \n\nBands playing: Moonstone Quill 
 and Split Window  \n\nWhen: Monday\, August 7\, preshow event starts at 
 5:30pm \n\nDetails:  Krystal 93 will be live on site with Phil Lindeman.
  If you get there around 5:30 you can  join the Summit Foundation for a s
 pecial volunteer signup event where you can pick your favorite local nonpr
 ofits. There will also be chances to win tickets for upcoming shows. For m
 ore information go to SummitFoundation.org for more info. Krystal Media is
  proud to join the Town of Dillon as sponsors of this event. Krystal Media
  supports the Summit!  
CATEGORIES:Dillon Amphitheater
END:VEVENT
BEGIN:VTIMEZONE
TZID:America/Denver
X-LIC-LOCATION:America/Denver
BEGIN:DAYLIGHT
DTSTART:20230312T030000
TZOFFSETFROM:-0700
TZOFFSETTO:-0600
TZNAME:MDT
END:DAYLIGHT
END:VTIMEZONE
END:VCALENDAR