BEGIN:VCALENDAR
VERSION:2.0
PRODID:-//wp-events-plugin.com//7.2.3.1//EN
TZID:America/Denver
X-WR-TIMEZONE:America/Denver
BEGIN:VEVENT
UID:1897@krystal93.com
DTSTART;TZID=America/Denver:20260428T170000
DTEND;TZID=America/Denver:20260428T190000
DTSTAMP:20260329T133831Z
URL:https://krystal93.com/events/mandala-art/
SUMMARY:Mandala Art
DESCRIPTION:TUESDAY\, APRIL 28\, 2026\nMandala Art for Mental Balance\n5:00
 -7:00pm / Silverthorne\nJoin Kathye Conti as she leads us through the rhyt
 hmic\nart of making your own mandala. Making a mandala\ndoes not require a
 rtistic skill and you will be amazed\nby the sense of calm and wholeness y
 ou feel.\nThis event is intended for Summit County residents only. Ages 11
 -18.\nEvent Facilitated in English.\nCONTACT BuildingHopeSummit.org for mo
 re information and to sign up.
CATEGORIES:Building Hope Summit County
END:VEVENT
BEGIN:VTIMEZONE
TZID:America/Denver
X-LIC-LOCATION:America/Denver
BEGIN:DAYLIGHT
DTSTART:20260308T030000
TZOFFSETFROM:-0700
TZOFFSETTO:-0600
TZNAME:MDT
END:DAYLIGHT
END:VTIMEZONE
END:VCALENDAR