BEGIN:VCALENDAR
VERSION:2.0
PRODID:-//wp-events-plugin.com//7.2.3.1//EN
TZID:America/Denver
X-WR-TIMEZONE:America/Denver
BEGIN:VEVENT
UID:956@krystal93.com
DTSTART;TZID=America/Denver:20240607T000000
DTEND;TZID=America/Denver:20240609T000000
DTSTAMP:20240523T011508Z
URL:https://krystal93.com/events/marble-gem-and-mineral-show/
SUMMARY:Marble Gem and Mineral Show
DESCRIPTION:Marble Campground\, 3 days of vendors with crystals\, rocks and
  gems.\nJune 7-9\, 2024: Friday and Saturday entertainment at Marble Mill 
 stage with sound healings\, kirtans\, performances\, rock-n-roll bands.
CATEGORIES:Family Event,Fundraiser
LOCATION:Marble Campground\, 112 W Park St \, Marble \, Colorado \, 81623\,
  Gunnison county\, United States
X-APPLE-STRUCTURED-LOCATION;VALUE=URI;X-ADDRESS=112 W Park St \, Marble \, 
 Colorado \, 81623\, Gunnison county\, United States;X-APPLE-RADIUS=100;X-T
 ITLE=Marble Campground:geo:0,0
END:VEVENT
BEGIN:VTIMEZONE
TZID:America/Denver
X-LIC-LOCATION:America/Denver
BEGIN:DAYLIGHT
DTSTART:20240310T030000
TZOFFSETFROM:-0700
TZOFFSETTO:-0600
TZNAME:MDT
END:DAYLIGHT
END:VTIMEZONE
END:VCALENDAR