BEGIN:VCALENDAR
VERSION:2.0
PRODID:-//wp-events-plugin.com//7.2.3.1//EN
TZID:America/Denver
X-WR-TIMEZONE:America/Denver
BEGIN:VEVENT
UID:1412@krystal93.com
DTSTART;TZID=America/Denver:20250307T170000
DTEND;TZID=America/Denver:20250307T203000
DTSTAMP:20250303T012710Z
URL:https://krystal93.com/events/march-first-friday-silverthorne/
SUMMARY:March First Friday - Silverthorne
DESCRIPTION:JOIN THE TOWN OF SILVERTHORNE FOR THE MARCH FIRST FRIDAY RAI
 L JAM ON FRIDAY\, MARCH 7. SPECTATORS CAN STOP BY THE SILVERTHORNE PERFOR
 MING ARTS CENTER LAWN FROM 5 TO 8:30 P.M. TO WATCH THE SKI AND SNOWBOARD R
 AIL JAM AND ENJOY LIVE MUSIC\, LIVE ART\, AND FOOD FROM LA PERLA. FOR MORE
  INFORMATION OR TO REGISTER TO COMPETE IN THE MARCH FIRST FRIDAY RAIL J
 AM\, VISIT SILVERTHORNE.ORG.
CATEGORIES:Town of Silverthorne
END:VEVENT
BEGIN:VTIMEZONE
TZID:America/Denver
X-LIC-LOCATION:America/Denver
BEGIN:STANDARD
DTSTART:20241103T010000
TZOFFSETFROM:-0600
TZOFFSETTO:-0700
TZNAME:MST
END:STANDARD
END:VTIMEZONE
END:VCALENDAR