BEGIN:VCALENDAR
VERSION:2.0
PRODID:-//wp-events-plugin.com//7.2.3.1//EN
TZID:America/Denver
X-WR-TIMEZONE:America/Denver
BEGIN:VEVENT
UID:1884@krystal93.com
DTSTART;TZID=America/Denver;VALUE=DATE:20260319
DTEND;TZID=America/Denver;VALUE=DATE:20260323
DTSTAMP:20260319T183553Z
URL:https://krystal93.com/events/march-madness-watch-parties-vail/
SUMMARY:March Madness Watch Parties -VAIL
DESCRIPTION:The Hythe Vail Presents: March Madness Watch Parties\nEvent Des
 cription *: Game Day at The Hythe\nShow off your team spirit and catch all
  the March basketball action with us. Watch the games with viewing on six 
 TVs and enjoy $5 beers\, $5 wine\, $6 well cocktails\, and BOGO apps\nEven
 t Start Date *: 2026-03-19\nEvent End Date *: 2026-03-29\nEvent Time *: 10
 :00\nIf this is a repeating event\, please provide information on the date
 (s) it repeats.: Thursday\, Friday\, Saturday &amp\; Sunday from March 19-
 29\, 2026\nEvent Website *: https://www.thehythevail.com/dining/revel-loun
 ge/\nEvent Location *: Revel Lounge\nStreet Address *: 715 W Lionshead Cir
 cle\nCity *: Vail\nState *: CO\nZip Code *: 81657
END:VEVENT
BEGIN:VTIMEZONE
TZID:America/Denver
X-LIC-LOCATION:America/Denver
BEGIN:DAYLIGHT
DTSTART:20260308T030000
TZOFFSETFROM:-0700
TZOFFSETTO:-0600
TZNAME:MDT
END:DAYLIGHT
END:VTIMEZONE
END:VCALENDAR