BEGIN:VCALENDAR
VERSION:2.0
PRODID:-//wp-events-plugin.com//7.2.3.1//EN
TZID:America/Denver
X-WR-TIMEZONE:America/Denver
BEGIN:VEVENT
UID:641@krystal93.com
DTSTART;TZID=America/Denver:20230717T190000
DTEND;TZID=America/Denver:20230717T210000
DTSTAMP:20230701T164544Z
URL:https://krystal93.com/events/mary-louise-lee-band-divas-tribute/
SUMMARY:Free - Mary Louise Lee Band - Divas Tribute
DESCRIPTION:FREE CONCERT\n\nJuly 17 - Mary Louise Lee Band Tributes Divas o
 f the Decades with Expressions\n\nLocation: Dillon Amphitheater\n\nStart t
 ime: 7pm
CATEGORIES:Dillon Amphitheater
END:VEVENT
BEGIN:VTIMEZONE
TZID:America/Denver
X-LIC-LOCATION:America/Denver
BEGIN:DAYLIGHT
DTSTART:20230312T030000
TZOFFSETFROM:-0700
TZOFFSETTO:-0600
TZNAME:MDT
END:DAYLIGHT
END:VTIMEZONE
END:VCALENDAR