BEGIN:VCALENDAR
VERSION:2.0
PRODID:-//wp-events-plugin.com//7.2.3.1//EN
TZID:America/Denver
X-WR-TIMEZONE:America/Denver
BEGIN:VEVENT
UID:735@krystal93.com
DTSTART;TZID=America/Denver:20231016T180000
DTEND;TZID=America/Denver:20231016T191500
DTSTAMP:20231002T150636Z
URL:https://krystal93.com/events/meditation-sound-healing-2/
SUMMARY:Meditation & Sound Healing
DESCRIPTION:GUIDED MEDITATION AND SOUND HEALING Join Sarah Antonucci for an
  evening of meditation and sound healing. This class combines a short guid
 ed meditation with the soothing sounds of crystal bowls and other gentle p
 ercussive instruments. Participation limited to ages 12+. Facilitated in S
 panish and English.  \n\nTime: 6:00-7:15pm Location: Silverthorne\n\nGo t
 o buildinghopesummit.org for more details.
CATEGORIES:Building Hope Summit County
END:VEVENT
BEGIN:VTIMEZONE
TZID:America/Denver
X-LIC-LOCATION:America/Denver
BEGIN:DAYLIGHT
DTSTART:20230312T030000
TZOFFSETFROM:-0700
TZOFFSETTO:-0600
TZNAME:MDT
END:DAYLIGHT
END:VTIMEZONE
END:VCALENDAR