BEGIN:VCALENDAR
VERSION:2.0
PRODID:-//wp-events-plugin.com//7.2.3.1//EN
TZID:America/Denver
X-WR-TIMEZONE:America/Denver
BEGIN:VEVENT
UID:1456@krystal93.com
DTSTART;TZID=America/Denver:20250426T200000
DTEND;TZID=America/Denver:20250426T230000
DTSTAMP:20250331T144354Z
URL:https://krystal93.com/events/melvin-seals-jgb-10mmh/
SUMMARY:Melvin Seals JGB - 10MMH
DESCRIPTION:\n\nTICKETS\n\nDoors 8pm/Show 8:30pm\n\nMelvin Seals has been a
  powerful presence in the music industry for over 30 years with a long-est
 ablished reputation as a performer\, recording artist and producer. Melvin
  is most revered for his powerful\, high-spirited\, Hammond B-3 organ\, an
 d keyboards in the Jerry Garcia Band. Melvin spun his B-3 magic with the J
 erry Garcia Band for 18 years and in doing so helped pioneer and define wh
 at has now become “Jam Band Music”. From blues to funk to rock to jazz
 \, Melvin Seals serves up a tasty mix with a little R&amp\;B and gospel th
 rown in to spice things up.\n\nMelvin and JGB bring an intuitive\, express
 ive style\, soul\, spontaneity and remarkable chops to the table. John Kad
 lecik on lead guitar and vocal duties\, John-Paul McLean’s savory bass\,
  Jeremy Hoenig on the drums and\, of course\, a heapin’ helpin’ of the
  wizard’s magic on Hammond B-3 Organ and keyboards. Along with Lady Chi 
 &amp\; Darlene Coleman on back-up vocals\, the result is a most satisfying
  blend of natural organic grooves that challenges genre boundaries. Their 
 chemistry is the focus from which they create a spontaneous and high art w
 here the sky is the limit musically. They offer an exciting\, often psyche
 delic musical journey that changes nightly and keeps the audience dancing 
 and smiling (and some staring in amazement) for hours.\n\nAdding his rock-
 gospel-soul-rhythm and blues touch with his funky style of playing\, no wo
 nder Jerry nicknamed him “Master of the Universe”. Melvin continues to
  treat music lovers to his unique brand of melodic flavor with JGB. Come s
 ee and hear for yourself!\n\nMELVIN SEALS &amp\; JGB:\n\nMelvin Seals – 
 Hammond B3 Organ\, Keyboards &amp\; Vocals\n\nJohn Kadlecik – Electric G
 uitar &amp\; Lead Vocals\n\nJohn-Paul McLean – Bass\n\nJeremy Hoenig –
  Drums\n\nLady Chi &amp\; Darlene Coleman – Backup Vocals\n\n\n\n\n\n\n
CATEGORIES:10 Mile Music Hall
END:VEVENT
BEGIN:VTIMEZONE
TZID:America/Denver
X-LIC-LOCATION:America/Denver
BEGIN:DAYLIGHT
DTSTART:20250309T030000
TZOFFSETFROM:-0700
TZOFFSETTO:-0600
TZNAME:MDT
END:DAYLIGHT
END:VTIMEZONE
END:VCALENDAR