BEGIN:VCALENDAR
VERSION:2.0
PRODID:-//wp-events-plugin.com//7.2.3.1//EN
TZID:America/Denver
X-WR-TIMEZONE:America/Denver
BEGIN:VEVENT
UID:842@krystal93.com
DTSTART;TZID=America/Denver:20240227T183000
DTEND;TZID=America/Denver:20240227T193000
DTSTAMP:20240201T143614Z
URL:https://krystal93.com/events/mental-health-awareness-for-parents/
SUMMARY:Mental Health Awareness for Parents
DESCRIPTION:MOODY OR MORE? MENTAL HEALTH AWARENESS SEMINAR FOR PARENTS\n\nD
 r. Aimee Sullivan discusses how parents can recognize the difference betwe
 en typical mood experiences in youth and more concerning indicators of pos
 sible bipolar disorder\, and offers tools and tips to help those who have 
 a child with bipolar disorder. Facilitated in English.\n\nTime: 6:30-7:30p
 m Location: Frisco\n\nGo to https://buildinghopesummit.org/ to sign up and
  get more information.
CATEGORIES:Building Hope Summit County
END:VEVENT
BEGIN:VTIMEZONE
TZID:America/Denver
X-LIC-LOCATION:America/Denver
BEGIN:STANDARD
DTSTART:20231105T010000
TZOFFSETFROM:-0600
TZOFFSETTO:-0700
TZNAME:MST
END:STANDARD
END:VTIMEZONE
END:VCALENDAR