BEGIN:VCALENDAR
VERSION:2.0
PRODID:-//wp-events-plugin.com//7.2.3.1//EN
TZID:America/Denver
X-WR-TIMEZONE:America/Denver
BEGIN:VEVENT
UID:484@krystal93.com
DTSTART;TZID=America/Denver:20230313T173000
DTEND;TZID=America/Denver:20230313T203000
DTSTAMP:20230228T170953Z
URL:https://krystal93.com/events/mental-health-first-aid-2/
SUMMARY:Mental Health First Aid
DESCRIPTION:3/13\, 3/14 MENTAL HEALTH FIRST AID  \n\nLearn how to help som
 eone experiencing a mental health or substance challenge. Participants lea
 rn to recognize risk factors\, warning signs\, and strategies for helping 
 in both crisis and non-crisis situations. This is a two day training\; you
  must also attend both days in order to receive your certification. Open t
 o ages 18+. Facilitated in Spanish. www.buildinghopesummit.org/events \n\
 nTime: 5:30-8:30pm Location: Silverthorne 
CATEGORIES:Building Hope Summit County
END:VEVENT
BEGIN:VTIMEZONE
TZID:America/Denver
X-LIC-LOCATION:America/Denver
BEGIN:DAYLIGHT
DTSTART:20230312T030000
TZOFFSETFROM:-0700
TZOFFSETTO:-0600
TZNAME:MDT
END:DAYLIGHT
END:VTIMEZONE
END:VCALENDAR