BEGIN:VCALENDAR
VERSION:2.0
PRODID:-//wp-events-plugin.com//7.2.3.1//EN
TZID:America/Denver
X-WR-TIMEZONE:America/Denver
BEGIN:VEVENT
UID:1286@krystal93.com
DTSTART;TZID=America/Denver:20241206T203000
DTEND;TZID=America/Denver:20241206T223000
DTSTAMP:20241201T204219Z
URL:https://krystal93.com/events/mihali-at-10-mile-music-hall-2/
SUMMARY:Mihali at 10 Mile Music Hall
DESCRIPTION:Krystal 93 and Z2 Entertainment welcome Mihali. Mihali’s musi
 c entwines reggae spirit\, fluid soundscape architecture\, and invigoratin
 g mantras meant to be chanted aloud in a packed venue.\n\nFollowing years 
 of fan demand\, Mihali served up his solo debut\, Breathe and Let Go\, in
  2020. It boasted collaborations with Citizen Cope\, Matisyahu\, G. Love &
 amp\; Special Sauce\, and Trevor Hall\, and instantly reacted with audienc
 es\, gathering millions of streams. In addition to glowing reviews from J
 amBase and Live For Live Music\, Grateful Web exclaimed\, “Mihali
 ’s musical talent is special.”\n\nYou can find tickets at Z2Ent.com. 
CATEGORIES:10 Mile Music Hall
END:VEVENT
BEGIN:VTIMEZONE
TZID:America/Denver
X-LIC-LOCATION:America/Denver
BEGIN:STANDARD
DTSTART:20241103T010000
TZOFFSETFROM:-0600
TZOFFSETTO:-0700
TZNAME:MST
END:STANDARD
END:VTIMEZONE
END:VCALENDAR