BEGIN:VCALENDAR
VERSION:2.0
PRODID:-//wp-events-plugin.com//7.2.3.1//EN
TZID:America/Denver
X-WR-TIMEZONE:America/Denver
BEGIN:VEVENT
UID:101@krystal93.com
DTSTART;TZID=America/Denver:20220307T100000
DTEND;TZID=America/Denver:20220307T120000
DTSTAMP:20220303T042003Z
URL:https://krystal93.com/events/mindful-snowshoe/
SUMMARY:Mindful Snowshoe
DESCRIPTION:\n\n\n\nBuilding Hope Summit County invites you to enjoy the be
 auty of Summit County and immerse yourself in the healing powers of nature
  on this winter adventure. We will pause along the way to reflect\, conne
 ct and create meaningful conversations centered in mental health and well 
 being. Event Facilitated in English. \n\nTime: 10 am - 12 pm Location: Br
 eckenridge \n\nRegister at BuildingHopeSummit.org/events.\n\n\n\n
CATEGORIES:Building Hope Summit County
END:VEVENT
BEGIN:VTIMEZONE
TZID:America/Denver
X-LIC-LOCATION:America/Denver
BEGIN:STANDARD
DTSTART:20211107T010000
TZOFFSETFROM:-0600
TZOFFSETTO:-0700
TZNAME:MST
END:STANDARD
END:VTIMEZONE
END:VCALENDAR