BEGIN:VCALENDAR
VERSION:2.0
PRODID:-//wp-events-plugin.com//7.2.3.1//EN
TZID:America/Denver
X-WR-TIMEZONE:America/Denver
BEGIN:VEVENT
UID:614@krystal93.com
DTSTART;TZID=America/Denver:20230609T090000
DTEND;TZID=America/Denver:20230609T120000
DTSTAMP:20230601T020617Z
URL:https://krystal93.com/events/mindfulness-hike-4/
SUMMARY:Mindfulness Hike
DESCRIPTION:MINDFULNESS HIKE\n\n Happy trails! Enjoy the beauty of our coun
 ty and immerse yourself in the healing powers of nature on this half day e
 xcursion. Facilitated in English. \n\nTime: 9am-12pm \n\nLocation: Silvert
 horne. \n\nGo to Building Hope Summit County for more information.  
CATEGORIES:Building Hope Summit County
END:VEVENT
BEGIN:VTIMEZONE
TZID:America/Denver
X-LIC-LOCATION:America/Denver
BEGIN:DAYLIGHT
DTSTART:20230312T030000
TZOFFSETFROM:-0700
TZOFFSETTO:-0600
TZNAME:MDT
END:DAYLIGHT
END:VTIMEZONE
END:VCALENDAR