BEGIN:VCALENDAR
VERSION:2.0
PRODID:-//wp-events-plugin.com//7.2.3.1//EN
TZID:America/Denver
X-WR-TIMEZONE:America/Denver
BEGIN:VEVENT
UID:685@krystal93.com
DTSTART;TZID=America/Denver:20230811T100000
DTEND;TZID=America/Denver:20230811T120000
DTSTAMP:20230801T011807Z
URL:https://krystal93.com/events/mindfulness-hike-5/
SUMMARY:Mindfulness Hike
DESCRIPTION:\n\n\n\n\n\n\n\n\n\nMINDFULNESS HIKE ALONG TRAIL MIX\n\nImmerse
  yourself in the healing powers of art and nature on these excursions feat
 uring Breckenridge International Festival of Arts Trail Mix art installati
 on\, Soft Gaze by Camille Hoffman. Participation limited to age 18+.\n\nTi
 me: 10am-12pm Location: Breckenridge\n\nGo to Building Hope Summit County 
 for more information.\n\n\n\n\n\n\n\n\n\n
CATEGORIES:Building Hope Summit County
END:VEVENT
BEGIN:VTIMEZONE
TZID:America/Denver
X-LIC-LOCATION:America/Denver
BEGIN:DAYLIGHT
DTSTART:20230312T030000
TZOFFSETFROM:-0700
TZOFFSETTO:-0600
TZNAME:MDT
END:DAYLIGHT
END:VTIMEZONE
END:VCALENDAR