BEGIN:VCALENDAR
VERSION:2.0
PRODID:-//wp-events-plugin.com//7.2.3.1//EN
TZID:America/Denver
X-WR-TIMEZONE:America/Denver
BEGIN:VEVENT
UID:1139@krystal93.com
DTSTART;TZID=America/Denver:20240823T100000
DTEND;TZID=America/Denver:20240823T120000
DTSTAMP:20240805T175934Z
URL:https://krystal93.com/events/mindfulness-hike-8/
SUMMARY:Mindfulness Hike
DESCRIPTION:MINDFULNESS HIKE ALONG TRAIL MIX\nImmerse yourself in the heali
 ng powers of art\nand nature on these excursions featuring the\nBreckenrid
 ge International Festival of Arts art\ninstallation by Megan Geckler and G
 erald\nClarke. Mindfulness expert\, Leslie Glenn\, guides\nparticipants th
 rough personal reflection and\ncreates meaningful conversations centered o
 n\nmental health and wellbeing along the trail.\nFacilitated in Spanish an
 d English.\nTime: 10am-12pm Location: Breckenridge\nGo to buildinghopesumm
 it.org for more information.\n
CATEGORIES:Building Hope Summit County
END:VEVENT
BEGIN:VTIMEZONE
TZID:America/Denver
X-LIC-LOCATION:America/Denver
BEGIN:DAYLIGHT
DTSTART:20240310T030000
TZOFFSETFROM:-0700
TZOFFSETTO:-0600
TZNAME:MDT
END:DAYLIGHT
END:VTIMEZONE
END:VCALENDAR