BEGIN:VCALENDAR
VERSION:2.0
PRODID:-//wp-events-plugin.com//7.2.3.1//EN
TZID:America/Denver
X-WR-TIMEZONE:America/Denver
BEGIN:VEVENT
UID:1140@krystal93.com
DTSTART;TZID=America/Denver:20240824T090000
DTEND;TZID=America/Denver:20240824T130000
DTSTAMP:20240805T180033Z
URL:https://krystal93.com/events/mindfulness-hike-9/
SUMMARY:Mindfulness Hike
DESCRIPTION:TRAIL STEWARDSHIP DAY\nSpend a day with Friends of Dillon Range
 r District\nmaintaining the trails that make Summit County\ngreat! Facilit
 ated in English.\nTime: 9am-1pm Location: Silverthorne\nGo to buildinghope
 summit.org for more information.\n
CATEGORIES:Building Hope Summit County
END:VEVENT
BEGIN:VTIMEZONE
TZID:America/Denver
X-LIC-LOCATION:America/Denver
BEGIN:DAYLIGHT
DTSTART:20240310T030000
TZOFFSETFROM:-0700
TZOFFSETTO:-0600
TZNAME:MDT
END:DAYLIGHT
END:VTIMEZONE
END:VCALENDAR