BEGIN:VCALENDAR
VERSION:2.0
PRODID:-//wp-events-plugin.com//7.2.3.1//EN
TZID:America/Denver
X-WR-TIMEZONE:America/Denver
BEGIN:VEVENT
UID:1781@krystal93.com
DTSTART;TZID=America/Denver:20260123T140000
DTEND;TZID=America/Denver:20260123T153000
DTSTAMP:20260102T024659Z
URL:https://krystal93.com/events/mindfulness-snowshoe-3/
SUMMARY:Mindfulness Snowshoe
DESCRIPTION:FRIDAY\, JANUARY 23\, 2026\nMindfulness Snowshoe with Leslie Gl
 enn\n2:00 pm - 3:30 pm / Breckenridge\nEnjoy the beauty of our county and 
 immerse yourself\nin the healing powers of nature on this excursion.\nThis
  event is intended for Summit Count\n Go to BuildingHopeSummit.org to sign
  up.
CATEGORIES:Building Hope Summit County
END:VEVENT
BEGIN:VTIMEZONE
TZID:America/Denver
X-LIC-LOCATION:America/Denver
BEGIN:STANDARD
DTSTART:20251102T010000
TZOFFSETFROM:-0600
TZOFFSETTO:-0700
TZNAME:MST
END:STANDARD
END:VTIMEZONE
END:VCALENDAR