BEGIN:VCALENDAR
VERSION:2.0
PRODID:-//wp-events-plugin.com//7.2.3.1//EN
TZID:America/Denver
X-WR-TIMEZONE:America/Denver
BEGIN:VEVENT
UID:972@krystal93.com
DTSTART;TZID=America/Denver:20240510T170000
DTEND;TZID=America/Denver:20240510T210000
DTSTAMP:20240501T180158Z
URL:https://krystal93.com/events/moms-night-out/
SUMMARY:Mom's Night Out
DESCRIPTION:Show your love for Mom and support Smart Bellies weekend food p
 rogram.  Smart Bellies is hosting a “Mom’s Night Out” bouquet maki
 ng\, and wine on Friday May 10 at the Continental Divide Winery in Bre
 ck.  AND you can also order your flowers for Mother’s Day through Smar
 t Bellies.  Visit smart bellies-dot-org for all the info. Smart Bellies 
 and Happy Moms! Krystal Media Supports the Summit. 
END:VEVENT
BEGIN:VTIMEZONE
TZID:America/Denver
X-LIC-LOCATION:America/Denver
BEGIN:DAYLIGHT
DTSTART:20240310T030000
TZOFFSETFROM:-0700
TZOFFSETTO:-0600
TZNAME:MDT
END:DAYLIGHT
END:VTIMEZONE
END:VCALENDAR