BEGIN:VCALENDAR
VERSION:2.0
PRODID:-//wp-events-plugin.com//7.2.3.1//EN
TZID:America/Denver
X-WR-TIMEZONE:America/Denver
BEGIN:VEVENT
UID:492@krystal93.com
DTSTART;TZID=America/Denver:20230329T180000
DTEND;TZID=America/Denver:20230329T193000
DTSTAMP:20230228T172459Z
URL:https://krystal93.com/events/moody-or-more-mental-health/
SUMMARY:Moody or More - Mental Health
DESCRIPTION:MOODY OR MORE? MENTAL HEALTH AWARENESS WEBINAR FOR PARENTS  \n
 \nThis event features Dr. Aimee Sullivan\, PhD and Licensed Clinical Psych
 ologist at the Helen and Arthur E. Johnson Depression Center on the Univer
 sity of Colorado Anchutz Medical Campus. The talk aims to help parents rec
 ognize the difference between typical mood experiences in youth and more c
 oncerning indicators of possible bipolar disorder\, and offers tools and t
 ips to help those who have a child with bipolar disorder. Event Facilitate
 d in English. www.buildinghopesummit.org/events \n\nTIME: 6:00-7:30PM
CATEGORIES:Building Hope Summit County
END:VEVENT
BEGIN:VTIMEZONE
TZID:America/Denver
X-LIC-LOCATION:America/Denver
BEGIN:DAYLIGHT
DTSTART:20230312T030000
TZOFFSETFROM:-0700
TZOFFSETTO:-0600
TZNAME:MDT
END:DAYLIGHT
END:VTIMEZONE
END:VCALENDAR