BEGIN:VCALENDAR
VERSION:2.0
PRODID:-//wp-events-plugin.com//7.2.3.1//EN
TZID:America/Denver
X-WR-TIMEZONE:America/Denver
BEGIN:VEVENT
UID:1381@krystal93.com
DTSTART;TZID=America/Denver:20250207T200000
DTEND;TZID=America/Denver:20250207T230000
DTSTAMP:20250203T150639Z
URL:https://krystal93.com/events/moon-zooz-10-mile-music-hall-2/
SUMMARY:Clay Street Unit @ 10 Mile Music Hall
DESCRIPTION:Based out of Denver\, CO\, Clay Street Unit is rooted deep in h
 omegrown southern country and folk that branches into the bluegrass sound 
 that’s heard throughout the Appalachian hills. Forming in early 2021\, t
 he band recently released their first EP in the fall of 2022 and just reco
 rded their first full length album set to be released this year. Clay Stre
 et Unit is working on developing and pushing their own unique sound\, with
  a high energy\, fresh take on the tradition of American folk and country 
 music that is sure to keep you moving.\n\n&nbsp\;\n\nWith Moonstone Quill!
 \n\n10 Mile Music Hall in Frisco @ 8:00pm. 
CATEGORIES:10 Mile Music Hall
END:VEVENT
BEGIN:VTIMEZONE
TZID:America/Denver
X-LIC-LOCATION:America/Denver
BEGIN:STANDARD
DTSTART:20241103T010000
TZOFFSETFROM:-0600
TZOFFSETTO:-0700
TZNAME:MST
END:STANDARD
END:VTIMEZONE
END:VCALENDAR