BEGIN:VCALENDAR
VERSION:2.0
PRODID:-//wp-events-plugin.com//7.2.3.1//EN
TZID:America/Denver
X-WR-TIMEZONE:America/Denver
BEGIN:VEVENT
UID:1380@krystal93.com
DTSTART;TZID=America/Denver:20250206T200000
DTEND;TZID=America/Denver:20250206T230000
DTSTAMP:20250203T152140Z
URL:https://krystal93.com/events/moon-zooz-10-mile-music-hall/
SUMMARY:Moon Zooz  @ 10 Mile Music Hall
DESCRIPTION:Moon Hooch\n\nMoon Hooch began busking in the subway platforms 
 of NYC in 2010\, quickly getting noticed by the NYPD\, who had to ban them
  from locations that couldn’t handle the crowds. In a few short years th
 ey were opening for the likes of Beats Antique\, They Might Be Giants\, an
 d Lotus\, while selling out their own headline shows at marquee venues aro
 und the United States and Europe. Their unconventional sound and technique
 s\, utilizing found objects like traffic cones\, landed them appearances o
 n NPR’s Tiny Desk in America\, “Later…with Jools Holland” in the U
 K\, “Hamish &amp\; Andy’s Gap Year” in Australia\, and private audie
 nces with the Premier League’s Chelsea F.C. They are currently touring t
 he world.\n\nToo Many Zooz\n\nSelf-described “Brass House” trio Too Ma
 ny Zooz make manically kinetic instrumental music that combines avant-ga
 rde jazz\, EDM\, punk rock\, and sundry other traditions into their own di
 stinctive brand of high-energy dance music. A viral sensation since they f
 irst emerged as New York subway buskers in 2013\, Too Many Zooz have evo
 lved into a globally recognized phenomenon who tour often and produce YouT
 ube videos that have garnered millions of views.\n\n10 Mile Music Hall in 
 Frisco @ 8:00pm. 
CATEGORIES:10 Mile Music Hall
END:VEVENT
BEGIN:VTIMEZONE
TZID:America/Denver
X-LIC-LOCATION:America/Denver
BEGIN:STANDARD
DTSTART:20241103T010000
TZOFFSETFROM:-0600
TZOFFSETTO:-0700
TZNAME:MST
END:STANDARD
END:VTIMEZONE
END:VCALENDAR